BEGIN:VCALENDAR
VERSION:2.0
PRODID:EVENTFROG//EVENT//ICAL
BEGIN:VEVENT
UID:20260424T021559Z-7448327145489701420@eventfrog.at
DTSTAMP:20260424T021559Z
DTSTART:20260427T100000Z
DTEND:20260427T180000Z
SUMMARY:Neueröffnung
DESCRIPTION:Neueröffnung Indoor Flohmarkt in Neu Wulmstorf-Elstorf am 27.04.26 ab 12.00 Uhr\n\nhttps://eventfrog.at/de/p/diverses/neueroeffnung-7448327145489701420.html
LOCATION:Stöberregal
GEO:53.425728;9.786413
URL:https://eventfrog.at/de/p/diverses/neueroeffnung-7448327145489701420.html
END:VEVENT
END:VCALENDAR