BEGIN:VCALENDAR
VERSION:2.0
PRODID:EVENTFROG//EVENT//ICAL
BEGIN:VEVENT
UID:20260425T014615Z-7448295241176619164@eventfrog.at
DTSTAMP:20260425T014615Z
DTSTART:20260510T083000Z
DTEND:20260510T103000Z
SUMMARY:TOUCH MY SOUL – PATRIZIA CASAGRANDA
DESCRIPTION:Patrizia Casagranda präsentiert vom 19.4. bis 12.7.2026 Werke zu Empowerment und Diversity in einer vielschichtigen Ausstellung.\n\nhttps://eventfrog.at/de/p/kunst-ausstellungen/ausstellung/touch-my-soul-patrizia-casagranda-7448295241176619164.html
LOCATION:Galerie Kley
GEO:51.654380;7.837530
URL:https://eventfrog.at/de/p/kunst-ausstellungen/ausstellung/touch-my-soul-patrizia-casagranda-7448295241176619164.html
END:VEVENT
END:VCALENDAR