BEGIN:VCALENDAR
VERSION:2.0
PRODID:EVENTFROG//EVENT//ICAL
BEGIN:VEVENT
UID:20260419T204532Z-7448255880947065359@eventfrog.at
DTSTAMP:20260419T204532Z
DTSTART:20260515T080000Z
DTEND:20260515T160000Z
SUMMARY:25 Jahre Gartenträume auf dem Linslerhof
DESCRIPTION:Die Gartenträume-Gartenmesse zeigt über 80 Aussteller, kreative Aktionen und bietet eine botanische Führung mit Pflanzenarzt René Wadas.\n\nhttps://eventfrog.at/de/p/messen/gartenschau/25-jahre-gartentraeume-auf-dem-linslerhof-7448255880947065359.html
LOCATION:Linslerhof
GEO:49.251755;6.730406
URL:https://eventfrog.at/de/p/messen/gartenschau/25-jahre-gartentraeume-auf-dem-linslerhof-7448255880947065359.html
END:VEVENT
END:VCALENDAR