BEGIN:VCALENDAR
VERSION:2.0
PRODID:EVENTFROG//EVENT//ICAL
BEGIN:VEVENT
UID:20260425T203709Z-7448193076185568478@eventfrog.at
DTSTAMP:20260425T203709Z
DTSTART:20260529T173000Z
DTEND:20260529T193000Z
SUMMARY:Migros-Kulturprozent-Classics: BERG UND MAHLER  Utopia Orch
DESCRIPTION:ALBAN BERG Konzert für Violine und Orchester «Dem Andenken eines Engels» (ca. 28') Pause GUSTAV MAHLER Sinfonie Nr. 1 D-Dur (ca....\n\nhttps://eventfrog.at/de/p/klassik-opern/klassik/migros-kulturprozent-classics-berg-und-mahler-utopia-orch-7448193076185568478.html
LOCATION:Tonhalle Zürich
GEO:47.366091;8.537969
URL:https://eventfrog.at/de/p/klassik-opern/klassik/migros-kulturprozent-classics-berg-und-mahler-utopia-orch-7448193076185568478.html
END:VEVENT
END:VCALENDAR