BEGIN:VCALENDAR
VERSION:2.0
PRODID:EVENTFROG//EVENT//ICAL
BEGIN:VEVENT
UID:20260421T161708Z-7448121144278792962@eventfrog.at
DTSTAMP:20260421T161708Z
DTSTART:20260528T100000Z
DTEND:20260528T113000Z
SUMMARY:Barrierefreiheit: Copilot im (Arbeits-)Alltag
DESCRIPTION:Franziska Sgoff & Lennart Höfer zeigen, wie Copilot blinde und sehbehinderte Menschen mit KI im Arbeitsalltag unterstützt.\n\nhttps://eventfrog.at/de/p/fuehrungen-vortraege/vortrag/barrierefreiheit-copilot-im-arbeits-alltag-7448121144278792962.html
LOCATION:Hybrid - Online oder im Kap Europa, Frankfurt
URL:https://eventfrog.at/de/p/fuehrungen-vortraege/vortrag/barrierefreiheit-copilot-im-arbeits-alltag-7448121144278792962.html
END:VEVENT
END:VCALENDAR