BEGIN:VCALENDAR
VERSION:2.0
PRODID:EVENTFROG//EVENT//ICAL
BEGIN:VEVENT
UID:20260421T161531Z-7448118034324032802@eventfrog.at
DTSTAMP:20260421T161531Z
DTSTART:20260528T083000Z
DTEND:20260528T093000Z
SUMMARY:Fit for Growth
DESCRIPTION:Saliya Kahawatte vermittelt im Workshop «Fit for Growth» Mindset-Stärkung und praktische Übungen für Alltag und Veränderung.\n\nhttps://eventfrog.at/de/p/kurse-seminare/sonstige-kurse-seminare/fit-for-growth-7448118034324032802.html
LOCATION:Hybrid - Online oder im Kap Europa, Frankfurt
URL:https://eventfrog.at/de/p/kurse-seminare/sonstige-kurse-seminare/fit-for-growth-7448118034324032802.html
END:VEVENT
END:VCALENDAR