BEGIN:VCALENDAR
VERSION:2.0
PRODID:EVENTFROG//EVENT//ICAL
BEGIN:VEVENT
UID:20260421T161707Z-7448106639117284693@eventfrog.at
DTSTAMP:20260421T161707Z
DTSTART:20260529T083000Z
DTEND:20260529T091500Z
SUMMARY:Digitale Barrierefreiheit: Mensch und Technologie
DESCRIPTION:Anna Jarosch & Eric Braun erläutern, wie digitale Barrierefreiheit durch Mensch und Technik in Unternehmen praxisnah gelingt.\n\nhttps://eventfrog.at/de/p/kurse-seminare/sonstige-kurse-seminare/digitale-barrierefreiheit-mensch-und-technologie-7448106639117284693.html
LOCATION:Online event
URL:https://eventfrog.at/de/p/kurse-seminare/sonstige-kurse-seminare/digitale-barrierefreiheit-mensch-und-technologie-7448106639117284693.html
END:VEVENT
END:VCALENDAR