BEGIN:VCALENDAR
VERSION:2.0
PRODID:EVENTFROG//EVENT//ICAL
BEGIN:VEVENT
UID:20260424T015355Z-7448023416559379794@eventfrog.at
DTSTAMP:20260424T015355Z
DTSTART:20260509T080000Z
DTEND:20260509T110000Z
SUMMARY:Großer Secondhand-Trachtenmarkt in Westendorf
DESCRIPTION:Secondhand-Trachtenmarkt mit über 2.000 Teilen bietet für Trachtenfans viel Auswahl und unterstützt Ausbildung in Chile.\n\nhttps://eventfrog.at/de/p/maerkte/second-hand/grosser-secondhand-trachtenmarkt-in-westendorf-7448023416559379794.html
LOCATION:Kath. Pfarrsaal
GEO:48.573434;10.838574
URL:https://eventfrog.at/de/p/maerkte/second-hand/grosser-secondhand-trachtenmarkt-in-westendorf-7448023416559379794.html
END:VEVENT
END:VCALENDAR