BEGIN:VCALENDAR
VERSION:2.0
PRODID:EVENTFROG//EVENT//ICAL
BEGIN:VEVENT
UID:20260425T212527Z-7447934641422493334@eventfrog.at
DTSTAMP:20260425T212527Z
DTSTART:20260501T080000Z
DTEND:20260501T140000Z
SUMMARY:Fotokurs / Fotoworkshop Twannbachschlucht (Fotografie)
DESCRIPTION:Fotokurs im Bernbiet: Erkunde eine reizvolle Schlucht mit wildem Bach. Anfänger bis Fortgeschrittene willkommen - keine Anforderungen. Ich pflege den Individual-Support.\n\nhttps://eventfrog.at/de/p/kurse-seminare/freizeit-hobby/fotokurs-fotoworkshop-twannbachschlucht-fotografie-7447934641422493334.html
LOCATION:Twannbachschlucht
GEO:47.101436;7.141302
URL:https://eventfrog.at/de/p/kurse-seminare/freizeit-hobby/fotokurs-fotoworkshop-twannbachschlucht-fotografie-7447934641422493334.html
END:VEVENT
END:VCALENDAR