BEGIN:VCALENDAR
VERSION:2.0
PRODID:EVENTFROG//EVENT//ICAL
BEGIN:VEVENT
UID:20260424T090352Z-7447930745375454496@eventfrog.at
DTSTAMP:20260424T090352Z
DTSTART:20260821T160000Z
DTEND:20260821T210000Z
SUMMARY:Weintavolata
DESCRIPTION:Mehrgangmenü aus Schlossweinstein-Küche und edle Weine begleiten Rheintalblick und gesangliche Einlagen.\n\nhttps://eventfrog.at/de/p/essen-trinken/weintavolata-7447930745375454496.html
LOCATION:Schloss Weinstein
GEO:47.397035;9.571107
URL:https://eventfrog.at/de/p/essen-trinken/weintavolata-7447930745375454496.html
END:VEVENT
END:VCALENDAR