BEGIN:VCALENDAR
VERSION:2.0
PRODID:EVENTFROG//EVENT//ICAL
BEGIN:VEVENT
UID:20260424T121329Z-7447920105286060051@eventfrog.at
DTSTAMP:20260424T121329Z
DTSTART:20260906T080000Z
DTEND:20260906T110000Z
SUMMARY:Tesla Owners Switzerland Coffee Hour
DESCRIPTION:Tesla Owners Switzerland Coffee-Hour, jeden 1. Sonntag im Monat beim SuC in Dietikon\n\nhttps://eventfrog.at/de/p/wissenschaft-und-technik/tesla-owners-switzerland-coffee-hour-7447920105286060051.html
LOCATION:Tesla Supercharger Dietikon
GEO:47.418345;8.396499
URL:https://eventfrog.at/de/p/wissenschaft-und-technik/tesla-owners-switzerland-coffee-hour-7447920105286060051.html
END:VEVENT
END:VCALENDAR