BEGIN:VCALENDAR
VERSION:2.0
PRODID:EVENTFROG//EVENT//ICAL
BEGIN:VEVENT
UID:20260424T090259Z-7447765715891811110@eventfrog.at
DTSTAMP:20260424T090259Z
DTSTART:20260502T170000Z
DTEND:20260502T183000Z
SUMMARY:Frühlingskonzert Gemischterchor Bella Voce
DESCRIPTION:Frühlingskonzert Gemischterchor Bella Voce\n\nhttps://eventfrog.at/de/p/konzerte/fruehlingskonzert-gemischterchor-bella-voce-7447765715891811110.html
LOCATION:Kirche St. Laurentius Oberkirch
GEO:47.561370;8.912550
URL:https://eventfrog.at/de/p/konzerte/fruehlingskonzert-gemischterchor-bella-voce-7447765715891811110.html
END:VEVENT
END:VCALENDAR