BEGIN:VCALENDAR
VERSION:2.0
PRODID:EVENTFROG//EVENT//ICAL
BEGIN:VEVENT
UID:20260424T133906Z-7447763399398704756@eventfrog.at
DTSTAMP:20260424T133906Z
DTSTART:20260502T163000Z
DTEND:20260503T010000Z
SUMMARY:Play Your Music - Jukebox-Night im Havana
DESCRIPTION:Am 2. Mai bestimmen die Gäste im Havana Cocktail- & Shishalounge per App die Musik und übernehmen das Mischpult.\n\nhttps://eventfrog.at/de/p/partys/cocktailparty/play-your-music-jukebox-night-im-havana-7447763399398704756.html
LOCATION:Havana Cocktail- & Shishalounge
GEO:48.580960;10.492467
URL:https://eventfrog.at/de/p/partys/cocktailparty/play-your-music-jukebox-night-im-havana-7447763399398704756.html
END:VEVENT
END:VCALENDAR