BEGIN:VCALENDAR
VERSION:2.0
PRODID:EVENTFROG//EVENT//ICAL
BEGIN:VEVENT
UID:20260422T222804Z-7447749980851326547@eventfrog.at
DTSTAMP:20260422T222804Z
DTSTART:20260425T110000Z
DTEND:20260425T123000Z
SUMMARY:Heilkräuter vor der Haustür - Kräuterspaziergang
DESCRIPTION:This workshop series explores the harmonizing powers of plants. It dives into the fascinating field of herbs and potential healing effects.\n\nhttps://eventfrog.at/de/p/gesundheit-spiritualitaet/gesundheit-wohlbefinden/heilkraeuter-vor-der-haustuer-kraeuterspaziergang-7447749980851326547.html
LOCATION:Nordeingang Perlacher Forst
GEO:48.089188;11.574697
URL:https://eventfrog.at/de/p/gesundheit-spiritualitaet/gesundheit-wohlbefinden/heilkraeuter-vor-der-haustuer-kraeuterspaziergang-7447749980851326547.html
END:VEVENT
END:VCALENDAR