BEGIN:VCALENDAR
VERSION:2.0
PRODID:EVENTFROG//EVENT//ICAL
BEGIN:VEVENT
UID:20260421T161530Z-7447706109517820538@eventfrog.at
DTSTAMP:20260421T161530Z
DTSTART:20260514T110000Z
DTEND:20260514T140000Z
SUMMARY:Weinwanderung Bischofsberg in der Weinbergslage Johannisberg
DESCRIPTION:Die Rundtour führt über den Weinlehrpfad in Radebeul zum Winzerhof Rößler mit Einkehr (wenn geöffnet) und vorbei an historischen Weingütern zurück.\n\nhttps://eventfrog.at/de/p/freizeit-ausfluege/wanderung/weinwanderung-bischofsberg-in-der-weinbergslage-johannisberg-7447706109517820538.html
LOCATION:Treffpunkt: Radebeul-Zitzschewig, Mittlere Bergstrasse 42
GEO:51.121184;13.605082
URL:https://eventfrog.at/de/p/freizeit-ausfluege/wanderung/weinwanderung-bischofsberg-in-der-weinbergslage-johannisberg-7447706109517820538.html
END:VEVENT
END:VCALENDAR