BEGIN:VCALENDAR
VERSION:2.0
PRODID:EVENTFROG//EVENT//ICAL
BEGIN:VEVENT
UID:20260422T084904Z-7447695380815329148@eventfrog.at
DTSTAMP:20260422T084904Z
DTSTART:20260514T110000Z
DTEND:20260514T140000Z
SUMMARY:Steinheimer Musikwandern
DESCRIPTION:Steinheimer Musikwandern am Vatertag: Am 14. Mai 2026 spielen neun Live-Bands von 13 bis 16 Uhr auf einem fünf Kilometer langen Rundweg in Steinheim.\n\nhttps://eventfrog.at/de/p/festivals/weitere-festivals/steinheimer-musikwandern-7447695380815329148.html
LOCATION:Meteorkratermuseum Steinheim
GEO:48.677531;10.068758
URL:https://eventfrog.at/de/p/festivals/weitere-festivals/steinheimer-musikwandern-7447695380815329148.html
END:VEVENT
END:VCALENDAR