BEGIN:VCALENDAR
VERSION:2.0
PRODID:EVENTFROG//EVENT//ICAL
BEGIN:VEVENT
UID:20260424T102448Z-7447677752486942861@eventfrog.at
DTSTAMP:20260424T102448Z
DTSTART:20260605T160000Z
SUMMARY:IARCH Jahresschlussparty HS25/FS26
DESCRIPTION:FHNW IARCH Abschlussparty HS25/FS26\nMotto: Mein Idol\nNo Food but lots of Drinks!\n\nhttps://eventfrog.at/de/p/partys/studentenparty/iarch-jahresschlussparty-hs25-fs26-7447677752486942861.html
LOCATION:ParterreOne Music
GEO:47.563686;7.590964
URL:https://eventfrog.at/de/p/partys/studentenparty/iarch-jahresschlussparty-hs25-fs26-7447677752486942861.html
END:VEVENT
END:VCALENDAR