BEGIN:VCALENDAR
VERSION:2.0
PRODID:EVENTFROG//EVENT//ICAL
BEGIN:VEVENT
UID:20260425T175129Z-7447674814326655986@eventfrog.at
DTSTAMP:20260425T175129Z
DTSTART:20260427T130000Z
DTEND:20260427T140000Z
SUMMARY:«Die kleine Hexe» zu Besuch in der Stadtbücherei
DESCRIPTION:Lesung von "Die kleine Hexe" mit Besuch des Ensembles der Kreuzgangfestspiele\n\nhttps://eventfrog.at/de/p/kinderveranstaltungen/familienveranstaltungen/die-kleine-hexe-zu-besuch-in-der-stadtbuecherei-7447674814326655986.html
LOCATION:Stadtbücherei Feuchtwangen -Haus Binz-
GEO:49.166760;10.330800
URL:https://eventfrog.at/de/p/kinderveranstaltungen/familienveranstaltungen/die-kleine-hexe-zu-besuch-in-der-stadtbuecherei-7447674814326655986.html
END:VEVENT
END:VCALENDAR