BEGIN:VCALENDAR
VERSION:2.0
PRODID:EVENTFROG//EVENT//ICAL
BEGIN:VEVENT
UID:20260425T194313Z-7447647276397265778@eventfrog.at
DTSTAMP:20260425T194313Z
DTSTART:20260527T083000Z
DTEND:20260527T113000Z
SUMMARY:Porsche Leipzig Werksführung Intensiv
DESCRIPTION:Erleben Sie jeden Schritt auf dem Weg zum fertigen Porsche. Zum ersten Mal erhalten Sie neben der Montage auch Einblicke in die Produktionsbereiche Karosseriebau und Lackiererei. \n\nhttps://eventfrog.at/de/p/fuehrungen-vortraege/fuehrung/porsche-leipzig-werksfuehrung-intensiv-7447647276397265778.html
LOCATION:Porsche Experience Center Leipzig
GEO:51.412098;12.295481
URL:https://eventfrog.at/de/p/fuehrungen-vortraege/fuehrung/porsche-leipzig-werksfuehrung-intensiv-7447647276397265778.html
END:VEVENT
END:VCALENDAR