BEGIN:VCALENDAR
VERSION:2.0
PRODID:EVENTFROG//EVENT//ICAL
BEGIN:VEVENT
UID:20260424T024649Z-7447635787485608990@eventfrog.at
DTSTAMP:20260424T024649Z
DTSTART:20260529T081500Z
DTEND:20260529T114500Z
SUMMARY:Porsche Carrera Lunch
DESCRIPTION:Exklusives 3-Gang Menü nach Porsche Art, inkl. Werksführung durch die Produktion der Modelle Macan und Panamera.\n\nhttps://eventfrog.at/de/p/essen-trinken/porsche-carrera-lunch-7447635787485608990.html
LOCATION:Porsche Experience Center Leipzig
GEO:51.412098;12.295481
URL:https://eventfrog.at/de/p/essen-trinken/porsche-carrera-lunch-7447635787485608990.html
END:VEVENT
END:VCALENDAR