BEGIN:VCALENDAR
VERSION:2.0
PRODID:EVENTFROG//EVENT//ICAL
BEGIN:VEVENT
UID:20260425T000036Z-7447632628964974613@eventfrog.at
DTSTAMP:20260425T000036Z
DTSTART:20260510T080000Z
DTEND:20260510T123000Z
SUMMARY:Porsche Pole Position Brunch
DESCRIPTION:Genießen Sie einen faszinierenden Ausblick auf die Porsche Rundstrecke und entdecken Sie die kulinarische „Erlebnisstrecke“ der Porsche Gastronomie.\n\nhttps://eventfrog.at/de/p/essen-trinken/porsche-pole-position-brunch-7447632628964974613.html
LOCATION:Porsche Experience Center Leipzig
GEO:51.412098;12.295481
URL:https://eventfrog.at/de/p/essen-trinken/porsche-pole-position-brunch-7447632628964974613.html
END:VEVENT
END:VCALENDAR