BEGIN:VCALENDAR
VERSION:2.0
PRODID:EVENTFROG//EVENT//ICAL
BEGIN:VEVENT
UID:20260422T083412Z-7447613176269516363@eventfrog.at
DTSTAMP:20260422T083412Z
DTSTART:20260529T160000Z
DTEND:20260529T215900Z
SUMMARY:Frankys SUNDOWNER
DESCRIPTION:Franky's Mintard feiert am 29.05.2026 sein 27-jähriges Jubiläum mit Sundowner-Menü, René Schlothauer live und DJ-Set.\n\nhttps://eventfrog.at/de/p/festivals/weitere-festivals/frankys-sundowner-7447613176269516363.html
LOCATION:Frankys Wasserbahnhof Mintard
GEO:51.376228;6.905188
URL:https://eventfrog.at/de/p/festivals/weitere-festivals/frankys-sundowner-7447613176269516363.html
END:VEVENT
END:VCALENDAR