BEGIN:VCALENDAR
VERSION:2.0
PRODID:EVENTFROG//EVENT//ICAL
BEGIN:VEVENT
UID:20260421T035945Z-7447593370543739109@eventfrog.at
DTSTAMP:20260421T035945Z
DTSTART:20260603T163000Z
DTEND:20260603T180000Z
SUMMARY:Community Music
DESCRIPTION:Jeden 1. und 3. Mittwoch treffen sich Anfänger und Spieler von 18:30 bis 20:00 Uhr zum gemeinsamen Musizieren - Teilnahme kostenlos.\n\nhttps://eventfrog.at/de/p/kurse-seminare/freizeit-hobby/community-music-7447593370543739109.html
LOCATION:Kulturhaus Milbertshofen
GEO:48.182056;11.567207
URL:https://eventfrog.at/de/p/kurse-seminare/freizeit-hobby/community-music-7447593370543739109.html
END:VEVENT
END:VCALENDAR