BEGIN:VCALENDAR
VERSION:2.0
PRODID:EVENTFROG//EVENT//ICAL
BEGIN:VEVENT
UID:20260421T121025Z-7447571673375636102@eventfrog.at
DTSTAMP:20260421T121025Z
DTSTART:20260614T123000Z
DTEND:20260614T143000Z
SUMMARY:Entdecke die Mikrowelt
DESCRIPTION:Blick durch das Binokular an der Umweltstation\n\nhttps://eventfrog.at/de/p/diverses/entdecke-die-mikrowelt-7447571673375636102.html
LOCATION:HeideHaus
GEO:48.211149;11.614929
URL:https://eventfrog.at/de/p/diverses/entdecke-die-mikrowelt-7447571673375636102.html
END:VEVENT
END:VCALENDAR