BEGIN:VCALENDAR
VERSION:2.0
PRODID:EVENTFROG//EVENT//ICAL
BEGIN:VEVENT
UID:20260422T154128Z-7447553720974315114@eventfrog.at
DTSTAMP:20260422T154128Z
DTSTART:20260502T180000Z
DTEND:20260502T182000Z
SUMMARY:Magie der Träume * Die Show wo Wunder wahr werden
DESCRIPTION:Unglaubliche Magie unwahrscheinliche Illusioen einzigarte Effekte Zaubertheater Tannenberg Erzgebirge Jo Everest Abend der ungewöhnlichen Dinge Phantasmagie Annaberg-Buchholz Chemnitz Sachsen Kultur \n\nhttps://eventfrog.at/de/p/theater-buehne/buehnenveranstaltung/magie-der-traeume-die-show-wo-wunder-wahr-werden-7447553720974315114.html
LOCATION:THEASEUM der Magie * Das 1. Zaubertheater im Erzgeb.
GEO:50.607716;12.949847
URL:https://eventfrog.at/de/p/theater-buehne/buehnenveranstaltung/magie-der-traeume-die-show-wo-wunder-wahr-werden-7447553720974315114.html
END:VEVENT
END:VCALENDAR