BEGIN:VCALENDAR
VERSION:2.0
PRODID:EVENTFROG//EVENT//ICAL
BEGIN:VEVENT
UID:20260419T183944Z-7447310884693633695@eventfrog.at
DTSTAMP:20260419T183944Z
DTSTART:20260717T080000Z
DTEND:20260717T100000Z
SUMMARY:Neue Perspektiven
DESCRIPTION:Die Türme der Stadt so nah und doch irgendwie ganz anders. Erleben Sie die "Neuen Perspektiven" Hamburgs bei diesem Rundgang.\n\nhttps://eventfrog.at/de/p/fuehrungen-vortraege/fuehrung/neue-perspektiven-7447310884693633695.html
LOCATION:S-Bahn-Haltestelle Hammerbrook
GEO:53.546613;10.023668
URL:https://eventfrog.at/de/p/fuehrungen-vortraege/fuehrung/neue-perspektiven-7447310884693633695.html
END:VEVENT
END:VCALENDAR