BEGIN:VCALENDAR
VERSION:2.0
PRODID:EVENTFROG//EVENT//ICAL
BEGIN:VEVENT
UID:20260424T123203Z-7447294150804799378@eventfrog.at
DTSTAMP:20260424T123203Z
DTSTART:20260413T140000Z
DTEND:20260622T140000Z
SUMMARY:Geschichtsreise Seelisberg
DESCRIPTION:Schulreise 2026: Geschichtsreise Seelisberg\n\nhttps://eventfrog.at/de/p/diverses/geschichtsreise-seelisberg-7447294150804799378.html
LOCATION:To be announced
URL:https://eventfrog.at/de/p/diverses/geschichtsreise-seelisberg-7447294150804799378.html
END:VEVENT
END:VCALENDAR