BEGIN:VCALENDAR
VERSION:2.0
PRODID:EVENTFROG//EVENT//ICAL
BEGIN:VEVENT
UID:20260425T194420Z-7447185058157323933@eventfrog.at
DTSTAMP:20260425T194420Z
DTSTART:20260525T150000Z
DTEND:20260525T160000Z
SUMMARY:Las Americas. Indigene Vielfalt
DESCRIPTION:Im Zentrum stehen sowohl gegenwärtige Kooperationen mit First Nations aus Kanada und Gesellschaften aus dem Amazonasgebiet als auch Objekte der Inka, Maya und Azteken.\n\nhttps://eventfrog.at/de/p/fuehrungen-vortraege/fuehrung/las-americas-indigene-vielfalt-7447185058157323933.html
LOCATION:Humboldt Forum
GEO:52.517275;13.401640
URL:https://eventfrog.at/de/p/fuehrungen-vortraege/fuehrung/las-americas-indigene-vielfalt-7447185058157323933.html
END:VEVENT
END:VCALENDAR