BEGIN:VCALENDAR
VERSION:2.0
PRODID:EVENTFROG//EVENT//ICAL
BEGIN:VEVENT
UID:20260424T214430Z-7446925882583740234@eventfrog.at
DTSTAMP:20260424T214430Z
DTSTART:20260523T170000Z
DTEND:20260523T180000Z
SUMMARY:I Got Bit By A Monkey Once... (Stand up comedy in English)
DESCRIPTION:An award-winning, one-man comedic storytelling show that takes audiences on a wild journey through four unforgettable true stories: a monkey bite; a long bus trip; an arrest; and a mugging.\n\nhttps://eventfrog.at/en/p/theatre-stage/comedy-cabaret/i-got-bit-by-a-monkey-once-stand-up-comedy-in-english-7446925882583740234.html
LOCATION:The Beast Basel Comedy Club
GEO:47.556046;7.589448
URL:https://eventfrog.at/en/p/theatre-stage/comedy-cabaret/i-got-bit-by-a-monkey-once-stand-up-comedy-in-english-7446925882583740234.html
END:VEVENT
END:VCALENDAR