BEGIN:VCALENDAR
VERSION:2.0
PRODID:EVENTFROG//EVENT//ICAL
BEGIN:VEVENT
UID:20260422T224444Z-7446237617438386776@eventfrog.at
DTSTAMP:20260422T224444Z
DTSTART:20260425T080000Z
DTEND:20260425T140000Z
SUMMARY:Pflegende Haarseife und Salbe selber machen
DESCRIPTION:Teilnehmer fertigen ca. 1 Kilo Bio-Seife und Salben, erfahren die Destillation ätherischer Öle und gestalten individuelle Verpackungen.\n\nhttps://eventfrog.at/de/p/kurse-seminare/sonstige-kurse-seminare/pflegende-haarseife-und-salbe-selber-machen-7446237617438386776.html
LOCATION:Buntes Chamäleon (Rimbach)
GEO:49.626339;8.754497
URL:https://eventfrog.at/de/p/kurse-seminare/sonstige-kurse-seminare/pflegende-haarseife-und-salbe-selber-machen-7446237617438386776.html
END:VEVENT
END:VCALENDAR