BEGIN:VCALENDAR
VERSION:2.0
PRODID:EVENTFROG//EVENT//ICAL
BEGIN:VEVENT
UID:20260422T224724Z-7446237351913741501@eventfrog.at
DTSTAMP:20260422T224724Z
DTSTART:20260424T130000Z
DTEND:20260424T173000Z
SUMMARY:Pflegende Haarseife und Salbe selber machen
DESCRIPTION:Teilnehmer fertigen ca. 1 Kilo Bio-Seife und Salben, erfahren die Destillation ätherischer Öle und gestalten individuelle Verpackungen.\n\nhttps://eventfrog.at/de/p/kurse-seminare/sonstige-kurse-seminare/pflegende-haarseife-und-salbe-selber-machen-7446237351913741501.html
LOCATION:Buntes Chamäleon (Rimbach)
GEO:49.626339;8.754497
URL:https://eventfrog.at/de/p/kurse-seminare/sonstige-kurse-seminare/pflegende-haarseife-und-salbe-selber-machen-7446237351913741501.html
END:VEVENT
END:VCALENDAR