BEGIN:VCALENDAR
VERSION:2.0
PRODID:EVENTFROG//EVENT//ICAL
BEGIN:VEVENT
UID:20260422T204746Z-7445887746869059684@eventfrog.at
DTSTAMP:20260422T204746Z
DTSTART:20260521T163000Z
DTEND:20260521T190000Z
SUMMARY:Faust Forward
DESCRIPTION:Das berühmte Drama um Faust, der seine Seele an Mephisto verwettet, um mehr Leben und Liebe zu erfahren. Freuen Sie sich auf Goethes bekanntestes Werk in zeitgenössischer Sprache und Spielfilmlänge.\n\nhttps://eventfrog.at/de/p/theater-buehne/theater/faust-forward-7445887746869059684.html
LOCATION:Mannheimer Abendakademie
GEO:49.492328;8.471048
URL:https://eventfrog.at/de/p/theater-buehne/theater/faust-forward-7445887746869059684.html
END:VEVENT
END:VCALENDAR