BEGIN:VCALENDAR
VERSION:2.0
PRODID:EVENTFROG//EVENT//ICAL
BEGIN:VEVENT
UID:20260422T204745Z-7445886995610503706@eventfrog.at
DTSTAMP:20260422T204745Z
DTSTART:20260520T170000Z
DTEND:20260520T190000Z
SUMMARY:Faust Forward
DESCRIPTION:Das berühmte Drama um Faust, der seine Seele an Mephisto verwettet, um mehr Leben und Liebe zu erfahren. Freuen Sie sich auf Goethes bekanntestes Werk in zeitgenössischer Sprache und Spielfilmlänge.\n\nhttps://eventfrog.at/de/p/theater-buehne/theater/faust-forward-7445886995610503706.html
LOCATION:Mannheimer Abendakademie
GEO:49.492328;8.471048
URL:https://eventfrog.at/de/p/theater-buehne/theater/faust-forward-7445886995610503706.html
END:VEVENT
END:VCALENDAR