BEGIN:VCALENDAR
VERSION:2.0
PRODID:EVENTFROG//EVENT//ICAL
BEGIN:VEVENT
UID:20260422T043000Z-7445220463138102275@eventfrog.at
DTSTAMP:20260422T043000Z
DTSTART:20260912T183000Z
DTEND:20260912T210000Z
SUMMARY:TubAkkord -Tuba & Akkordeon/Das einzigartige Duo spielt auf!
DESCRIPTION:Das Duo TubAkkord zeigt die klangliche Verbindung von Tuba und Akkordeon mit klassischer und moderner Musik.\n\nhttps://eventfrog.at/de/p/konzerte/blasmusik/tubakkord-tuba-akkordeon-das-einzigartige-duo-spielt-auf-7445220463138102275.html
LOCATION:Pfarrweg 6
GEO:49.207664;11.647819
URL:https://eventfrog.at/de/p/konzerte/blasmusik/tubakkord-tuba-akkordeon-das-einzigartige-duo-spielt-auf-7445220463138102275.html
END:VEVENT
END:VCALENDAR