BEGIN:VCALENDAR
VERSION:2.0
PRODID:EVENTFROG//EVENT//ICAL
BEGIN:VEVENT
UID:20260419T230303Z-7445055405292530409@eventfrog.at
DTSTAMP:20260419T230303Z
DTSTART:20260514T080000Z
DTEND:20260514T130000Z
SUMMARY:Outdoor-Kirche in Winterthur – Natur erleben mit Familien un
DESCRIPTION:Outdoor-Kirche in Winterthur – Natur erleben mit Familien und Naturbegeisterte\n\nhttps://eventfrog.at/de/p/diverses/outdoor-kirche-in-winterthur-natur-erleben-mit-familien-un-7445055405292530409.html
LOCATION:Kath. Kirche St. Urban
GEO:47.487651;8.759102
URL:https://eventfrog.at/de/p/diverses/outdoor-kirche-in-winterthur-natur-erleben-mit-familien-un-7445055405292530409.html
END:VEVENT
END:VCALENDAR