BEGIN:VCALENDAR
VERSION:2.0
PRODID:EVENTFROG//EVENT//ICAL
BEGIN:VEVENT
UID:20260420T044736Z-7444990372713914165@eventfrog.at
DTSTAMP:20260420T044736Z
DTSTART:20260607T160000Z
DTEND:20260607T171500Z
SUMMARY:NOVECENTO, LE PIANISTE DE L'OCEAN
DESCRIPTION:Novecento, pianiste sur un paquebot, refuse de quitter son bateau jusqu'au jour où il veut enfin voir la mer.\n\nhttps://eventfrog.at/fr/p/theatre-scene/theatre/novecento-le-pianiste-de-l-ocean-7444990372713914165.html
LOCATION:Aula du Mottier B
GEO:46.557966;6.634578
URL:https://eventfrog.at/fr/p/theatre-scene/theatre/novecento-le-pianiste-de-l-ocean-7444990372713914165.html
END:VEVENT
END:VCALENDAR