BEGIN:VCALENDAR
VERSION:2.0
PRODID:EVENTFROG//EVENT//ICAL
BEGIN:VEVENT
UID:20260425T183905Z-7444819918724273673@eventfrog.at
DTSTAMP:20260425T183905Z
DTSTART:20260426T080000Z
DTEND:20260426T130000Z
SUMMARY:Hof- und Garagenflohmarkt Schweinfurt Yorktown
DESCRIPTION:Am 26.04.2026 findet in Schweinfurt Yorktown (Coloradostraße, Kalifornienstraße, Montanastraße, Alaskastraße) ein Hof- und Garagenflohmarkt statt. Start ab 10:00 Uhr. Wir freuen uns auf euren Besuch. \n\nhttps://eventfrog.at/de/p/maerkte/flohmarkt/hof-und-garagenflohmarkt-schweinfurt-yorktown-7444819918724273673.html
LOCATION:Hof- & Garagenflohmarkt Schweinfurt Yorktown am 26.04.2026 ab 10 Uhr
GEO:50.059607;10.201088
URL:https://eventfrog.at/de/p/maerkte/flohmarkt/hof-und-garagenflohmarkt-schweinfurt-yorktown-7444819918724273673.html
END:VEVENT
END:VCALENDAR