BEGIN:VCALENDAR
VERSION:2.0
PRODID:EVENTFROG//EVENT//ICAL
BEGIN:VEVENT
UID:20260425T042735Z-7444741205575900291@eventfrog.at
DTSTAMP:20260425T042735Z
DTSTART:20270509T160000Z
DTEND:20270509T210000Z
SUMMARY:Ritmo Habana (Salsa & Bachata)
DESCRIPTION:RITMO HABANA by DJ Theo\n\nJeden Sonntag:\nSALSA & BACHATA ALL STYLES\n\nEintritt CHF 10.–\n18.00 Uhr bis 23.00 Uhr\n\nhttps://eventfrog.at/de/p/diverses/ritmo-habana-salsa-bachata-7444741205575900291.html
LOCATION:Moderne Bar & Karussell
GEO:47.048440;8.306079
URL:https://eventfrog.at/de/p/diverses/ritmo-habana-salsa-bachata-7444741205575900291.html
END:VEVENT
END:VCALENDAR