BEGIN:VCALENDAR
VERSION:2.0
PRODID:EVENTFROG//EVENT//ICAL
BEGIN:VEVENT
UID:20260420T154004Z-7444669188747065723@eventfrog.at
DTSTAMP:20260420T154004Z
DTSTART:20260423T163000Z
DTEND:20260423T180000Z
SUMMARY:SIGNIERSTUNDE: Dr. Matthias Riedl - "The Longevity-Food-Form
DESCRIPTION:Dr. Matthias Riedl signiert am 23.04.2026 in Pinneberg sein neues Buch mit Strategien für gesundes, langes Leben.\n\nhttps://eventfrog.at/de/p/theater-buehne/lesung/signierstunde-dr-matthias-riedl-the-longevity-food-form-7444669188747065723.html
LOCATION:Hugendubel Pinneberg
GEO:53.662524;9.798789
URL:https://eventfrog.at/de/p/theater-buehne/lesung/signierstunde-dr-matthias-riedl-the-longevity-food-form-7444669188747065723.html
END:VEVENT
END:VCALENDAR