BEGIN:VCALENDAR
VERSION:2.0
PRODID:EVENTFROG//EVENT//ICAL
BEGIN:VEVENT
UID:20260421T042856Z-7444353408230775060@eventfrog.at
DTSTAMP:20260421T042856Z
DTSTART:20260510T110000Z
DTEND:20260510T133000Z
SUMMARY:Tanzgala 2026  Matinee
DESCRIPTION:Einlass: 12:30\nBeginn 13:00\n\nhttps://eventfrog.at/de/p/theater-buehne/tanz/tanzgala-2026-matinee-7444353408230775060.html
LOCATION:Bürgerhaus Karlsfeld
GEO:48.222930;11.470910
URL:https://eventfrog.at/de/p/theater-buehne/tanz/tanzgala-2026-matinee-7444353408230775060.html
END:VEVENT
END:VCALENDAR