BEGIN:VCALENDAR
VERSION:2.0
PRODID:EVENTFROG//EVENT//ICAL
BEGIN:VEVENT
UID:20260424T105344Z-7443987762267583827@eventfrog.at
DTSTAMP:20260424T105344Z
DTSTART:20260607T150000Z
DTEND:20260607T163000Z
SUMMARY:Northern Lights - Wettinger Singkreis
DESCRIPTION:Der Wettinger Singkrei entführt Sie in die klangvollen und atmosphärischen Werke der nordischen Komponisten Ola Gjeillo und Marten Jansson\n\nOla Gjeilo ist ein norwegischer Komponist und Pianist, der f\n\nhttps://eventfrog.at/de/p/konzerte/chor/northern-lights-wettinger-singkreis-7443987762267583827.html
LOCATION:Kirche St. Sebastian, Wettingen
GEO:47.468145;8.330555
URL:https://eventfrog.at/de/p/konzerte/chor/northern-lights-wettinger-singkreis-7443987762267583827.html
END:VEVENT
END:VCALENDAR