BEGIN:VCALENDAR
VERSION:2.0
PRODID:EVENTFROG//EVENT//ICAL
BEGIN:VEVENT
UID:20260423T003119Z-7443924445436098706@eventfrog.at
DTSTAMP:20260423T003119Z
DTSTART:20260425T160000Z
SUMMARY:Kaffee Clash - die Grenzgänger Edition
DESCRIPTION:420 Kaffee-Clash – Grenzgänger-Edition \n\nWenn Ruhrpott auf Holland trifft und Kaffeekultur auf 420-Vibes, entsteht ein Abend voller Geschmack, Gespräche und Gemeinschaft.\n\n\n\nhttps://eventfrog.at/de/p/diverses/kaffee-clash-die-grenzgaenger-edition-7443924445436098706.html
LOCATION:Shadow
GEO:51.613057;7.201684
URL:https://eventfrog.at/de/p/diverses/kaffee-clash-die-grenzgaenger-edition-7443924445436098706.html
END:VEVENT
END:VCALENDAR