BEGIN:VCALENDAR
VERSION:2.0
PRODID:EVENTFROG//EVENT//ICAL
BEGIN:VEVENT
UID:20260421T042853Z-7443326182223827212@eventfrog.at
DTSTAMP:20260421T042853Z
DTSTART:20260424T170000Z
DTEND:20260424T200000Z
SUMMARY:BOUNCE - Bon Jovi Tribute Konzert
DESCRIPTION:Bounce spielt ein energiegeladenes Bon Jovi Tribute Rock-Stehkonzert in der Rheinhessenhalle Monsheim. Einlass 18.00 Uhr, Beginn 19.00 Uhr \n\nhttps://eventfrog.at/de/p/konzerte/pop-rock/bounce-bon-jovi-tribute-konzert-7443326182223827212.html
LOCATION:Rheinhessenhalle Monsheim
GEO:49.634212;8.213151
URL:https://eventfrog.at/de/p/konzerte/pop-rock/bounce-bon-jovi-tribute-konzert-7443326182223827212.html
END:VEVENT
END:VCALENDAR