BEGIN:VCALENDAR
VERSION:2.0
PRODID:EVENTFROG//EVENT//ICAL
BEGIN:VEVENT
UID:20260425T203915Z-7443249576461520695@eventfrog.at
DTSTAMP:20260425T203915Z
DTSTART:20260425T173000Z
SUMMARY:Konzert Giora Feidman: For a better World
DESCRIPTION:Im Rahmen seiner "For a better World"-Tour kommt der bekannte Klarinettist Giora Feidman zu Gast in die Christuskirche Hof\n\nhttps://eventfrog.at/de/p/konzerte/weitere-musikrichtungen/konzert-giora-feidman-for-a-better-world-7443249576461520695.html
LOCATION:Christuskirche Hof
GEO:50.305800;11.908460
URL:https://eventfrog.at/de/p/konzerte/weitere-musikrichtungen/konzert-giora-feidman-for-a-better-world-7443249576461520695.html
END:VEVENT
END:VCALENDAR