BEGIN:VCALENDAR
VERSION:2.0
PRODID:EVENTFROG//EVENT//ICAL
BEGIN:VEVENT
UID:20260422T002948Z-7443211266628310806@eventfrog.at
DTSTAMP:20260422T002948Z
DTSTART:20260423T163000Z
DTEND:20260423T183000Z
SUMMARY:Männer im Wandel –  Austausch und zur Reflexion
DESCRIPTION:Austausch und Reflexion für Männer in neuen Lebensphasen. Gruppenangebot zur Unterstützung, persönlichen Entwicklung und Stärkung. Offen, wertschätzend und unterstützend. Termine monatlich.\n\nhttps://eventfrog.at/de/p/kurse-seminare/sonstige-kurse-seminare/maenner-im-wandel-austausch-und-zur-reflexion-7443211266628310806.html
LOCATION:Mehrgenerationenhaus Ingelheim
GEO:49.975597;8.030243
URL:https://eventfrog.at/de/p/kurse-seminare/sonstige-kurse-seminare/maenner-im-wandel-austausch-und-zur-reflexion-7443211266628310806.html
END:VEVENT
END:VCALENDAR