BEGIN:VCALENDAR
VERSION:2.0
PRODID:EVENTFROG//EVENT//ICAL
BEGIN:VEVENT
UID:20260424T163737Z-7442948661946936462@eventfrog.at
DTSTAMP:20260424T163737Z
DTSTART:20260508T200000Z
DTEND:20260509T020000Z
SUMMARY:TIFY EVENTS-Party im TIK
DESCRIPTION:AfroDance-Party im TIK\n\n\n\nhttps://eventfrog.at/de/p/partys/studentenparty/tify-events-party-im-tik-7442948661946936462.html
LOCATION:T.I.K. Club
GEO:48.008056;7.818889
URL:https://eventfrog.at/de/p/partys/studentenparty/tify-events-party-im-tik-7442948661946936462.html
END:VEVENT
END:VCALENDAR