BEGIN:VCALENDAR
VERSION:2.0
PRODID:EVENTFROG//EVENT//ICAL
BEGIN:VEVENT
UID:20260422T113256Z-7442594040342656342@eventfrog.at
DTSTAMP:20260422T113256Z
DTSTART:20260430T160000Z
DTEND:20260430T190000Z
SUMMARY:Dystopian Cartography
DESCRIPTION:Dystopian Cartography, with a vernissage on April 30 and the official opening on May 1 at Luisa Catucci Contemporary during Gallery Weekend Berlin, presents artist Pablo Griss’s new body of work\n\nhttps://eventfrog.at/de/p/kunst-ausstellungen/ausstellung/dystopian-cartography-7442594040342656342.html
LOCATION:Luisa Catucci Contemporary
GEO:52.533412;13.398298
URL:https://eventfrog.at/de/p/kunst-ausstellungen/ausstellung/dystopian-cartography-7442594040342656342.html
END:VEVENT
END:VCALENDAR