BEGIN:VCALENDAR
VERSION:2.0
PRODID:EVENTFROG//EVENT//ICAL
BEGIN:VEVENT
UID:20260419T165035Z-7442311677381488497@eventfrog.at
DTSTAMP:20260419T165035Z
DTSTART:20260617T083000Z
DTEND:20260621T150000Z
SUMMARY:Akasha Chronik Retreat Klosters
DESCRIPTION:In diesem Retreat lernst du die Akasha Chronik für dich und andere Menschen zu öffnen und darin zu lesen, so dass du ganz viel Heilung und Transformation erfahren kannst.\n\nhttps://eventfrog.at/de/p/kurse-seminare/coaching/akasha-chronik-retreat-klosters-7442311677381488497.html
LOCATION:Seven Alpina Boutique Hotel
GEO:46.869558;9.881560
URL:https://eventfrog.at/de/p/kurse-seminare/coaching/akasha-chronik-retreat-klosters-7442311677381488497.html
END:VEVENT
END:VCALENDAR