BEGIN:VCALENDAR
VERSION:2.0
PRODID:EVENTFROG//EVENT//ICAL
BEGIN:VEVENT
UID:20260421T161707Z-7442167214784947249@eventfrog.at
DTSTAMP:20260421T161707Z
DTSTART:20260529T120000Z
DTEND:20260529T140000Z
SUMMARY:Artificial Intelligence - Wo steuern wir hin?
DESCRIPTION:Impulsvorträge und Diskussion zur Zukunft der Künstlichen Intelligenz mit Experten der Kölner Augenklinik Merheim.\n\nhttps://eventfrog.at/de/p/fuehrungen-vortraege/vortrag/artificial-intelligence-wo-steuern-wir-hin-7442167214784947249.html
LOCATION:Hybrid - Online oder Kap Europa, Frankfurt a.M.
URL:https://eventfrog.at/de/p/fuehrungen-vortraege/vortrag/artificial-intelligence-wo-steuern-wir-hin-7442167214784947249.html
END:VEVENT
END:VCALENDAR