BEGIN:VCALENDAR
VERSION:2.0
PRODID:EVENTFROG//EVENT//ICAL
BEGIN:VEVENT
UID:20260421T161708Z-7442153861593213115@eventfrog.at
DTSTAMP:20260421T161708Z
DTSTART:20260528T151500Z
DTEND:20260528T160000Z
SUMMARY:Barrierefreiheitsstärkungsgesetz (BFSG) in Kraft - was nun?
DESCRIPTION:Am 28. Juni 2025 trat das Barrierefreiheitsstärkungsgesetz in Kraft, es verbessert die Teilhabe für Menschen mit Behinderungen.\n\nhttps://eventfrog.at/de/p/fuehrungen-vortraege/vortrag/barrierefreiheitsstaerkungsgesetz-bfsg-in-kraft-was-nun-7442153861593213115.html
LOCATION:Hybrid - Online oder Kap Europa, Frankfurt a.M.
URL:https://eventfrog.at/de/p/fuehrungen-vortraege/vortrag/barrierefreiheitsstaerkungsgesetz-bfsg-in-kraft-was-nun-7442153861593213115.html
END:VEVENT
END:VCALENDAR